BEGIN:VCALENDAR
VERSION:2.0
CALSCALE:GREGORIAN
PRODID:-//Diputació de Barcelona//DibaCMS//EN
BEGIN:VEVENT
UID:26698
DTSTAMP:20260422T002110
DTSTART:20240720T080000
DTEND:20240720T130000
SUMMARY:Sortida “MotoVespera”
LOCATION:Plaça Font del Lleó 
METHOD:PUBLISH
X-WR-CALNAME:caldesm@caldesdemontbui.cat
X-WR-TIMEZONE:Europe/Madrid
DESCRIPTION:
URI:https://www.caldesdemontbui.cat/actualitat/agenda/26698-sortida-motovespera.html
CLASS:PUBLIC
END:VEVENT
END:VCALENDAR
