BEGIN:VCALENDAR
VERSION:2.0
CALSCALE:GREGORIAN
PRODID:-//Diputació de Barcelona//DibaCMS//EN
BEGIN:VEVENT
UID:26693
DTSTAMP:20260421T141119
DTSTART:20240716T180000
DTEND:20240716T233000
SUMMARY:Jocs de taula
LOCATION:C. de Font i Boet, 4 08140 Caldes de Montbui
METHOD:PUBLISH
X-WR-CALNAME:caldesm@caldesdemontbui.cat
X-WR-TIMEZONE:Europe/Madrid
DESCRIPTION:
URI:https://www.caldesdemontbui.cat/actualitat/agenda/26693-jocs-de-taula.html
CLASS:PUBLIC
END:VEVENT
END:VCALENDAR
