BEGIN:VCALENDAR
VERSION:2.0
CALSCALE:GREGORIAN
PRODID:-//Diputació de Barcelona//DibaCMS//EN
BEGIN:VEVENT
UID:26691
DTSTAMP:20260421T154237
DTSTART:20240628T171500
DTEND:20240628T233000
SUMMARY:28J: Pintada de mural al jardí i Estampació de “Tote bag”.
LOCATION:C. de Font i Boet, 4 08140 Caldes de Montbui
METHOD:PUBLISH
X-WR-CALNAME:caldesm@caldesdemontbui.cat
X-WR-TIMEZONE:Europe/Madrid
DESCRIPTION:
URI:https://www.caldesdemontbui.cat/actualitat/agenda/28j-pintada-de-mural-al-jardi-i-estampacio-de-tote-bag.html
CLASS:PUBLIC
END:VEVENT
END:VCALENDAR
