BEGIN:VCALENDAR
VERSION:2.0
CALSCALE:GREGORIAN
PRODID:-//Diputació de Barcelona//DibaCMS//EN
BEGIN:VEVENT
UID:26676
DTSTAMP:20260422T020104
DTSTART:20240712T223000
DTEND:20240712T233000
SUMMARY:El Judici · Escaldàrium
LOCATION:Plaça Font del Lleó 
METHOD:PUBLISH
X-WR-CALNAME:caldesm@caldesdemontbui.cat
X-WR-TIMEZONE:Europe/Madrid
DESCRIPTION:
URI:https://www.caldesdemontbui.cat/actualitat/agenda/el-judici--escaldarium.html
CLASS:PUBLIC
END:VEVENT
END:VCALENDAR
