BEGIN:VCALENDAR
VERSION:2.0
CALSCALE:GREGORIAN
PRODID:-//Diputació de Barcelona//DibaCMS//EN
BEGIN:VEVENT
UID:26675
DTSTAMP:20260421T220743
DTSTART:20240712T180000
DTEND:20240712T233000
SUMMARY:El rebost de les bruixes
LOCATION:Plaça de la Font del Lleó, 20 08140 Caldes de Montbui
METHOD:PUBLISH
X-WR-CALNAME:caldesm@caldesdemontbui.cat
X-WR-TIMEZONE:Europe/Madrid
DESCRIPTION:
URI:https://www.caldesdemontbui.cat/actualitat/agenda/el-rebost-de-les-bruixes.html
CLASS:PUBLIC
END:VEVENT
END:VCALENDAR
