BEGIN:VCALENDAR
VERSION:2.0
CALSCALE:GREGORIAN
PRODID:-//Diputació de Barcelona//DibaCMS//EN
BEGIN:VEVENT
UID:26673
DTSTAMP:20260422T032948
DTSTART:20240711T183000
DTEND:20240711T233000
SUMMARY:Taller Viatgeteca: Llibreta viatgera
LOCATION:Santa Teresa, 3-5 08140 Caldes de Montbui
METHOD:PUBLISH
X-WR-CALNAME:caldesm@caldesdemontbui.cat
X-WR-TIMEZONE:Europe/Madrid
DESCRIPTION:
URI:https://www.caldesdemontbui.cat/actualitat/agenda/taller-viatgeteca-llibreta-viatgera.html
CLASS:PUBLIC
END:VEVENT
END:VCALENDAR
