BEGIN:VCALENDAR
VERSION:2.0
CALSCALE:GREGORIAN
PRODID:-//Diputació de Barcelona//DibaCMS//EN
BEGIN:VEVENT
UID:26672
DTSTAMP:20260421T140019
DTSTART:20240710T180000
DTEND:20240710T233000
SUMMARY:Taller de cuina sense pares
LOCATION:C. de Font i Boet, 4 08140 Caldes de Montbui
METHOD:PUBLISH
X-WR-CALNAME:caldesm@caldesdemontbui.cat
X-WR-TIMEZONE:Europe/Madrid
DESCRIPTION:
URI:https://www.caldesdemontbui.cat/actualitat/agenda/26672-taller-de-cuina-sense-pares.html
CLASS:PUBLIC
END:VEVENT
END:VCALENDAR
