BEGIN:VCALENDAR
VERSION:2.0
CALSCALE:GREGORIAN
PRODID:-//Diputació de Barcelona//DibaCMS//EN
BEGIN:VEVENT
UID:26670
DTSTAMP:20260422T052139
DTSTART:20240709T180000
DTEND:20240709T233000
SUMMARY:Polseres, manualitats i molt més
LOCATION:C. de Font i Boet, 4 08140 Caldes de Montbui
METHOD:PUBLISH
X-WR-CALNAME:caldesm@caldesdemontbui.cat
X-WR-TIMEZONE:Europe/Madrid
DESCRIPTION:
URI:https://www.caldesdemontbui.cat/actualitat/agenda/polseres-manualitats-i-molt-mes.html
CLASS:PUBLIC
END:VEVENT
END:VCALENDAR
