BEGIN:VCALENDAR
VERSION:2.0
CALSCALE:GREGORIAN
PRODID:-//Diputació de Barcelona//DibaCMS//EN
BEGIN:VEVENT
UID:26669
DTSTAMP:20260422T015911
DTSTART:20240708T080000
DTEND:20240712T233000
SUMMARY:Vine a provar les arts marcials japoneses i meditar amb flors de Bach
LOCATION:C. Buenos Aires, 56 8140 Caldes de Montbui
METHOD:PUBLISH
X-WR-CALNAME:caldesm@caldesdemontbui.cat
X-WR-TIMEZONE:Europe/Madrid
DESCRIPTION:
URI:https://www.caldesdemontbui.cat/actualitat/agenda/vine-a-provar-les-arts-marcials-japoneses-i-meditar-amb-flors-de-bach.html
CLASS:PUBLIC
END:VEVENT
END:VCALENDAR
