BEGIN:VCALENDAR
VERSION:2.0
CALSCALE:GREGORIAN
PRODID:-//Diputació de Barcelona//DibaCMS//EN
BEGIN:VEVENT
UID:26668
DTSTAMP:20260421T140507
DTSTART:20240707T103000
DTEND:20240707T233000
SUMMARY:10è aniversari Guillàs - 30è aniversari Lleó - Trobada de Gegantons
LOCATION:Plaça Moreu 
METHOD:PUBLISH
X-WR-CALNAME:caldesm@caldesdemontbui.cat
X-WR-TIMEZONE:Europe/Madrid
DESCRIPTION:
URI:https://www.caldesdemontbui.cat/actualitat/agenda/10e-aniversari-guillas-30e-aniversari-lleo-trobada-de-gegantons.html
CLASS:PUBLIC
END:VEVENT
END:VCALENDAR
