BEGIN:VCALENDAR
VERSION:2.0
CALSCALE:GREGORIAN
PRODID:-//Diputació de Barcelona//DibaCMS//EN
BEGIN:VEVENT
UID:26667
DTSTAMP:20260422T124125
DTSTART:20240706T190000
DTEND:20240706T210000
SUMMARY:Concert de Corals: L'amor en paraules, cançons i acords
LOCATION:C. Mestre Gregori Montserrat, 4 08140 Caldes de Montbui
METHOD:PUBLISH
X-WR-CALNAME:caldesm@caldesdemontbui.cat
X-WR-TIMEZONE:Europe/Madrid
DESCRIPTION:
URI:https://www.caldesdemontbui.cat/actualitat/agenda/concert-de-corals-lamor-en-paraules-cancons-i-acords.html
CLASS:PUBLIC
END:VEVENT
END:VCALENDAR
