BEGIN:VCALENDAR
VERSION:2.0
CALSCALE:GREGORIAN
PRODID:-//Diputació de Barcelona//DibaCMS//EN
BEGIN:VEVENT
UID:26665
DTSTAMP:20260421T140909
DTSTART:20240706T180000
DTEND:20240706T180000
SUMMARY:Actuació castellera al Barri de La Bolera
LOCATION:Plaça Moreu 
METHOD:PUBLISH
X-WR-CALNAME:caldesm@caldesdemontbui.cat
X-WR-TIMEZONE:Europe/Madrid
DESCRIPTION:
URI:https://www.caldesdemontbui.cat/actualitat/agenda/actuacio-castellera-al-barri-de-la-bolera.html
CLASS:PUBLIC
END:VEVENT
END:VCALENDAR
