BEGIN:VCALENDAR
VERSION:2.0
CALSCALE:GREGORIAN
PRODID:-//Diputació de Barcelona//DibaCMS//EN
BEGIN:VEVENT
UID:26662
DTSTAMP:20260421T210907
DTSTART:20240706T100000
DTEND:20240706T233000
SUMMARY:Templàrium. Festa infantil de foc i aigua
LOCATION:Plaça Font del Lleó 
METHOD:PUBLISH
X-WR-CALNAME:caldesm@caldesdemontbui.cat
X-WR-TIMEZONE:Europe/Madrid
DESCRIPTION:
URI:https://www.caldesdemontbui.cat/actualitat/agenda/templarium-festa-infantil-de-foc-i-aigua.html
CLASS:PUBLIC
END:VEVENT
END:VCALENDAR
