BEGIN:VCALENDAR
VERSION:2.0
CALSCALE:GREGORIAN
PRODID:-//Diputació de Barcelona//DibaCMS//EN
BEGIN:VEVENT
UID:26661
DTSTAMP:20260421T192639
DTSTART:20240706T090000
DTEND:20240707T233000
SUMMARY:Festa del Barri de La Bolera
LOCATION:Plaça Moreu 
METHOD:PUBLISH
X-WR-CALNAME:caldesm@caldesdemontbui.cat
X-WR-TIMEZONE:Europe/Madrid
DESCRIPTION:
URI:https://www.caldesdemontbui.cat/actualitat/agenda/festa-del-barri-de-la-bolera.html
CLASS:PUBLIC
END:VEVENT
END:VCALENDAR
