BEGIN:VCALENDAR
VERSION:2.0
CALSCALE:GREGORIAN
PRODID:-//Diputació de Barcelona//DibaCMS//EN
BEGIN:VEVENT
UID:26659
DTSTAMP:20260422T034352
DTSTART:20240704T213000
DTEND:20240704T233000
SUMMARY:Cinema a la fresca
LOCATION:C. de Font i Boet, 4 08140 Caldes de Montbui
METHOD:PUBLISH
X-WR-CALNAME:caldesm@caldesdemontbui.cat
X-WR-TIMEZONE:Europe/Madrid
DESCRIPTION:
URI:https://www.caldesdemontbui.cat/actualitat/agenda/cinema-a-la-fresca.html
CLASS:PUBLIC
END:VEVENT
END:VCALENDAR
