BEGIN:VCALENDAR
VERSION:2.0
CALSCALE:GREGORIAN
PRODID:-//Diputació de Barcelona//DibaCMS//EN
BEGIN:VEVENT
UID:26657
DTSTAMP:20260422T001349
DTSTART:20240704T180000
DTEND:20240704T233000
SUMMARY:L’armari de l’Òliver | Dia Internacional de l’Orgull LGTBI+
LOCATION:Santa Teresa, 3-5 08140 Caldes de Montbui
METHOD:PUBLISH
X-WR-CALNAME:caldesm@caldesdemontbui.cat
X-WR-TIMEZONE:Europe/Madrid
DESCRIPTION:
URI:https://www.caldesdemontbui.cat/actualitat/agenda/larmari-de-loliver--dia-internacional-de-lorgull-lgtbi.html
CLASS:PUBLIC
END:VEVENT
END:VCALENDAR
