BEGIN:VCALENDAR
VERSION:2.0
CALSCALE:GREGORIAN
PRODID:-//Diputació de Barcelona//DibaCMS//EN
BEGIN:VEVENT
UID:26652
DTSTAMP:20260422T065542
DTSTART:20240702T103000
DTEND:20240702T123000
SUMMARY:Teatre al carrer
LOCATION:C. de Font i Boet, 4 08140 Caldes de Montbui
METHOD:PUBLISH
X-WR-CALNAME:caldesm@caldesdemontbui.cat
X-WR-TIMEZONE:Europe/Madrid
DESCRIPTION:
URI:https://www.caldesdemontbui.cat/actualitat/agenda/teatre-al-carrer.html
CLASS:PUBLIC
END:VEVENT
END:VCALENDAR
