BEGIN:VCALENDAR
VERSION:2.0
CALSCALE:GREGORIAN
PRODID:-//Diputació de Barcelona//DibaCMS//EN
BEGIN:VEVENT
UID:26651
DTSTAMP:20260421T210941
DTSTART:20240701T190000
DTEND:20240701T233000
SUMMARY:La cultura del passing
LOCATION:Carrer del Pont, 3 08140 Caldes de Montbui
METHOD:PUBLISH
X-WR-CALNAME:caldesm@caldesdemontbui.cat
X-WR-TIMEZONE:Europe/Madrid
DESCRIPTION:
URI:https://www.caldesdemontbui.cat/actualitat/agenda/la-cultura-del-passing.html
CLASS:PUBLIC
END:VEVENT
END:VCALENDAR
