BEGIN:VCALENDAR
VERSION:2.0
CALSCALE:GREGORIAN
PRODID:-//Diputació de Barcelona//DibaCMS//EN
BEGIN:VEVENT
UID:26648
DTSTAMP:20260421T154330
DTSTART:20240701T170000
DTEND:20240726T213000
SUMMARY:Tecnificacions Estiu Ch Caldes
LOCATION:Torre Roja, s/n. Pavelló Torre Roja 8140 Caldes de Montbui
METHOD:PUBLISH
X-WR-CALNAME:caldesm@caldesdemontbui.cat
X-WR-TIMEZONE:Europe/Madrid
DESCRIPTION:
URI:https://www.caldesdemontbui.cat/actualitat/agenda/tecnificacions-estiu-ch-caldes.html
CLASS:PUBLIC
END:VEVENT
END:VCALENDAR
