BEGIN:VCALENDAR
VERSION:2.0
CALSCALE:GREGORIAN
PRODID:-//Diputació de Barcelona//DibaCMS//EN
BEGIN:VEVENT
UID:26639
DTSTAMP:20260421T155053
DTSTART:20240629T190000
DTEND:20240629T190000
SUMMARY:Estimats Reis d'Orient
LOCATION: Corredossos de Baix, 9-11 (antic 1) 8140 Caldes de Montbui
METHOD:PUBLISH
X-WR-CALNAME:caldesm@caldesdemontbui.cat
X-WR-TIMEZONE:Europe/Madrid
DESCRIPTION:
URI:https://www.caldesdemontbui.cat/actualitat/agenda/estimats-reis-dorient.html
CLASS:PUBLIC
END:VEVENT
END:VCALENDAR
