BEGIN:VCALENDAR
VERSION:2.0
CALSCALE:GREGORIAN
PRODID:-//Diputació de Barcelona//DibaCMS//EN
BEGIN:VEVENT
UID:26636
DTSTAMP:20260422T002245
DTSTART:20240629T190000
DTEND:20240629T233000
SUMMARY:Sopar i ball de fi de curs de Country de Caldes
LOCATION:C. Mestre Gregori Montserrat, 4 08140 Caldes de Montbui
METHOD:PUBLISH
X-WR-CALNAME:caldesm@caldesdemontbui.cat
X-WR-TIMEZONE:Europe/Madrid
DESCRIPTION:
URI:https://www.caldesdemontbui.cat/actualitat/agenda/sopar-i-ball-de-fi-de-curs-de-country-de-caldes.html
CLASS:PUBLIC
END:VEVENT
END:VCALENDAR
