BEGIN:VCALENDAR
VERSION:2.0
CALSCALE:GREGORIAN
PRODID:-//Diputació de Barcelona//DibaCMS//EN
BEGIN:VEVENT
UID:26634
DTSTAMP:20260421T173425
DTSTART:20240629T160000
DTEND:20240629T160000
SUMMARY:Festival de dansa - Les 4  estacions
LOCATION:Avinguda Pi i Margall, 45-47 baixos 08140 Caldes de Montbui
METHOD:PUBLISH
X-WR-CALNAME:caldesm@caldesdemontbui.cat
X-WR-TIMEZONE:Europe/Madrid
DESCRIPTION:
URI:https://www.caldesdemontbui.cat/actualitat/agenda/festival-de-dansa-les-4-estacions.html
CLASS:PUBLIC
END:VEVENT
END:VCALENDAR
