BEGIN:VCALENDAR
VERSION:2.0
CALSCALE:GREGORIAN
PRODID:-//Diputació de Barcelona//DibaCMS//EN
BEGIN:VEVENT
UID:26632
DTSTAMP:20260421T140323
DTSTART:20240628T170000
DTEND:20240628T170000
SUMMARY:PAS DE GRAU D’EN MANUEL AURET I XÈNIA GIBRAT
LOCATION:
METHOD:PUBLISH
X-WR-CALNAME:caldesm@caldesdemontbui.cat
X-WR-TIMEZONE:Europe/Madrid
DESCRIPTION:
URI:https://www.caldesdemontbui.cat/actualitat/agenda/pas-de-grau-den-manuel-auret-i-xenia-gibrat.html
CLASS:PUBLIC
END:VEVENT
END:VCALENDAR
