BEGIN:VCALENDAR
VERSION:2.0
CALSCALE:GREGORIAN
PRODID:-//Diputació de Barcelona//DibaCMS//EN
BEGIN:VEVENT
UID:26631
DTSTAMP:20260422T035634
DTSTART:20240628T120000
DTEND:20240628T120000
SUMMARY:Lectura del manifest institucional en commemoració del dia de l'orgull LGBTI+
LOCATION:Plaça de la Font del Lleó 
METHOD:PUBLISH
X-WR-CALNAME:caldesm@caldesdemontbui.cat
X-WR-TIMEZONE:Europe/Madrid
DESCRIPTION:
URI:https://www.caldesdemontbui.cat/actualitat/agenda/lectura-del-manifest-institucional-en-commemoracio-del-dia-de-lorgull-lgbti.html
CLASS:PUBLIC
END:VEVENT
END:VCALENDAR
