BEGIN:VCALENDAR
VERSION:2.0
CALSCALE:GREGORIAN
PRODID:-//Diputació de Barcelona//DibaCMS//EN
BEGIN:VEVENT
UID:26626
DTSTAMP:20260421T222137
DTSTART:20240622T083000
DTEND:20240622T130000
SUMMARY:Sortida "Motovespera"
LOCATION:Plaça de la Font del Lleó 
METHOD:PUBLISH
X-WR-CALNAME:caldesm@caldesdemontbui.cat
X-WR-TIMEZONE:Europe/Madrid
DESCRIPTION:
URI:https://www.caldesdemontbui.cat/actualitat/agenda/sortida-motovespera.html
CLASS:PUBLIC
END:VEVENT
END:VCALENDAR
