BEGIN:VCALENDAR
VERSION:2.0
CALSCALE:GREGORIAN
PRODID:-//Diputació de Barcelona//DibaCMS//EN
BEGIN:VEVENT
UID:26624
DTSTAMP:20260421T203642
DTSTART:20240620T193000
DTEND:20240620T193000
SUMMARY:DIA INTERNACIONAL DEL IOGA – CLASSE GRATUÏTA
LOCATION:plaça de Catalunya 
METHOD:PUBLISH
X-WR-CALNAME:caldesm@caldesdemontbui.cat
X-WR-TIMEZONE:Europe/Madrid
DESCRIPTION:
URI:https://www.caldesdemontbui.cat/actualitat/agenda/dia-internacional-del-ioga--classe-gratuta.html
CLASS:PUBLIC
END:VEVENT
END:VCALENDAR
