BEGIN:VCALENDAR
VERSION:2.0
CALSCALE:GREGORIAN
PRODID:-//Diputació de Barcelona//DibaCMS//EN
BEGIN:VEVENT
UID:26587
DTSTAMP:20260421T165821
DTSTART:20240615T120000
DTEND:20240615T120000
SUMMARY:Conte-taller “El espejo de la verdad”
LOCATION:Santa Teresa, 3-5 08140 Caldes de Montbui
METHOD:PUBLISH
X-WR-CALNAME:caldesm@caldesdemontbui.cat
X-WR-TIMEZONE:Europe/Madrid
DESCRIPTION:
URI:https://www.caldesdemontbui.cat/actualitat/agenda/conte-taller-el-espejo-de-la-verdad.html
CLASS:PUBLIC
END:VEVENT
END:VCALENDAR
