BEGIN:VCALENDAR
VERSION:2.0
CALSCALE:GREGORIAN
PRODID:-//Diputació de Barcelona//DibaCMS//EN
BEGIN:VEVENT
UID:26580
DTSTAMP:20260422T022335
DTSTART:20240607T193000
DTEND:20240607T193000
SUMMARY:Les tardes juny la Biblioteca “Tanca amb ritme”
LOCATION:Santa Teresa, 3-5 08140 Caldes de Montbui
METHOD:PUBLISH
X-WR-CALNAME:caldesm@caldesdemontbui.cat
X-WR-TIMEZONE:Europe/Madrid
DESCRIPTION:
URI:https://www.caldesdemontbui.cat/actualitat/agenda/26580-les-tardes-juny-la-biblioteca-tanca-amb-ritme.html
CLASS:PUBLIC
END:VEVENT
END:VCALENDAR
