BEGIN:VCALENDAR
VERSION:2.0
CALSCALE:GREGORIAN
PRODID:-//Diputació de Barcelona//DibaCMS//EN
BEGIN:VEVENT
UID:26576
DTSTAMP:20260421T233653
DTSTART:20240616T100000
DTEND:20240616T140000
SUMMARY:Fira d’antiquaris i brocanters del mes de juny
LOCATION:
METHOD:PUBLISH
X-WR-CALNAME:caldesm@caldesdemontbui.cat
X-WR-TIMEZONE:Europe/Madrid
DESCRIPTION:
URI:https://www.caldesdemontbui.cat/actualitat/agenda/26576-fira-dantiquaris-i-brocanters-del-mes-de-juny.html
CLASS:PUBLIC
END:VEVENT
END:VCALENDAR
