BEGIN:VCALENDAR
VERSION:2.0
CALSCALE:GREGORIAN
PRODID:-//Diputació de Barcelona//DibaCMS//EN
BEGIN:VEVENT
UID:26574
DTSTAMP:20260421T183127
DTSTART:20240612T190000
DTEND:20240612T190000
SUMMARY:Sessió deliberativa del procés participatiu per a l'elaboració de l'itinerari de camins municipals de Caldes de Montbui
LOCATION:C. Mestre Gregori Montserrat, 4 08140 Caldes de Montbui
METHOD:PUBLISH
X-WR-CALNAME:caldesm@caldesdemontbui.cat
X-WR-TIMEZONE:Europe/Madrid
DESCRIPTION:
URI:https://www.caldesdemontbui.cat/actualitat/agenda/sessio-deliberativa-del-proces-participatiu-per-a-lelaboracio-de-litinerari-de-camins-municipals-de-caldes-de-montbui.html
CLASS:PUBLIC
END:VEVENT
END:VCALENDAR
