BEGIN:VCALENDAR
VERSION:2.0
CALSCALE:GREGORIAN
PRODID:-//Diputació de Barcelona//DibaCMS//EN
BEGIN:VEVENT
UID:26559
DTSTAMP:20260420T133004
DTSTART:20240603T183000
DTEND:20240603T183000
SUMMARY:Presentació pública del projecte de millora del tram de la C-59 entre Caldes de Montbui i Palau Solità i Plegamans
LOCATION:
METHOD:PUBLISH
X-WR-CALNAME:caldesm@caldesdemontbui.cat
X-WR-TIMEZONE:Europe/Madrid
DESCRIPTION:
URI:https://www.caldesdemontbui.cat/actualitat/agenda/presentacio-publica-del-projecte-de-millora-del-tram-de-la-c-59-entre-caldes-de-montbui-i-palau-solita-i-plegamans.html
CLASS:PUBLIC
END:VEVENT
END:VCALENDAR
