BEGIN:VCALENDAR
VERSION:2.0
CALSCALE:GREGORIAN
PRODID:-//Diputació de Barcelona//DibaCMS//EN
BEGIN:VEVENT
UID:26557
DTSTAMP:20260421T140433
DTSTART:20240628T190000
DTEND:20240628T190000
SUMMARY:Concert solidari Grans Clàssics amb la Coral El Calderí i l’Octet de l’EMM J.Valls
LOCATION:Carrer del Pont, 3 08140 Caldes de Montbui
METHOD:PUBLISH
X-WR-CALNAME:caldesm@caldesdemontbui.cat
X-WR-TIMEZONE:Europe/Madrid
DESCRIPTION:
URI:https://www.caldesdemontbui.cat/actualitat/agenda/concert-solidari-grans-classics-amb-la-coral-el-calderi-i-loctet-de-lemm-jvalls.html
CLASS:PUBLIC
END:VEVENT
END:VCALENDAR
