BEGIN:VCALENDAR
VERSION:2.0
CALSCALE:GREGORIAN
PRODID:-//Diputació de Barcelona//DibaCMS//EN
BEGIN:VEVENT
UID:26555
DTSTAMP:20260421T201554
DTSTART:20240607T200000
DTEND:20240607T200000
SUMMARY:Inauguració de l'exposició “Emocions” de Natalie Koch 
LOCATION:Carrer del Forn, 8bis 08140 Caldes de Montbui
METHOD:PUBLISH
X-WR-CALNAME:caldesm@caldesdemontbui.cat
X-WR-TIMEZONE:Europe/Madrid
DESCRIPTION:
URI:https://www.caldesdemontbui.cat/actualitat/agenda/inauguracio-de-lexposicio-emocions-de-natalie-koch-.html
CLASS:PUBLIC
END:VEVENT
END:VCALENDAR
