BEGIN:VCALENDAR
VERSION:2.0
CALSCALE:GREGORIAN
PRODID:-//Diputació de Barcelona//DibaCMS//EN
BEGIN:VEVENT
UID:26545
DTSTAMP:20260421T134310
DTSTART:20240611T180000
DTEND:20240611T180000
SUMMARY:Presentació de l’estudi “Les víctimes de l’espoli franquista a Caldes de Montbui”
LOCATION:
METHOD:PUBLISH
X-WR-CALNAME:caldesm@caldesdemontbui.cat
X-WR-TIMEZONE:Europe/Madrid
DESCRIPTION:
URI:https://www.caldesdemontbui.cat/actualitat/agenda/presentacio-de-lestudi-les-victimes-de-lespoli-franquista-a-caldes-de-montbui.html
CLASS:PUBLIC
END:VEVENT
END:VCALENDAR
