BEGIN:VCALENDAR
VERSION:2.0
CALSCALE:GREGORIAN
PRODID:-//Diputació de Barcelona//DibaCMS//EN
BEGIN:VEVENT
UID:26543
DTSTAMP:20260421T140253
DTSTART:20240622T183000
DTEND:20240622T183000
SUMMARY:Teatre musical amb l’obra “West Side Story”.
LOCATION:
METHOD:PUBLISH
X-WR-CALNAME:caldesm@caldesdemontbui.cat
X-WR-TIMEZONE:Europe/Madrid
DESCRIPTION:
URI:https://www.caldesdemontbui.cat/actualitat/agenda/teatre-musical-amb-lobra-west-side-story.html
CLASS:PUBLIC
END:VEVENT
END:VCALENDAR
