BEGIN:VCALENDAR
VERSION:2.0
CALSCALE:GREGORIAN
PRODID:-//Diputació de Barcelona//DibaCMS//EN
BEGIN:VEVENT
UID:26542
DTSTAMP:20260421T190925
DTSTART:20240619T180000
DTEND:20240619T180000
SUMMARY:Concerts de fi de curs de les formacions corals i orquestrals de l'Escola Municipal de Música Joan Valls
LOCATION:Carrer del Pont, 3 08140 Caldes de Montbui
METHOD:PUBLISH
X-WR-CALNAME:caldesm@caldesdemontbui.cat
X-WR-TIMEZONE:Europe/Madrid
DESCRIPTION:
URI:https://www.caldesdemontbui.cat/actualitat/agenda/concerts-de-fi-de-curs-de-les-formacions-corals-i-orquestrals-de-lescola-municipal-de-musica-joan-valls.html
CLASS:PUBLIC
END:VEVENT
END:VCALENDAR
