BEGIN:VCALENDAR
VERSION:2.0
CALSCALE:GREGORIAN
PRODID:-//Diputació de Barcelona//DibaCMS//EN
BEGIN:VEVENT
UID:26541
DTSTAMP:20260421T170409
DTSTART:20240614T193000
DTEND:20240614T193000
SUMMARY:Concert a càrrec del grup de Miniflaustaff i de l’orquestra infantil
LOCATION:Santa Teresa, 3-5 08140 Caldes de Montbui
METHOD:PUBLISH
X-WR-CALNAME:caldesm@caldesdemontbui.cat
X-WR-TIMEZONE:Europe/Madrid
DESCRIPTION:
URI:https://www.caldesdemontbui.cat/actualitat/agenda/concert-a-carrec-del-grup-de-miniflaustaff-i-de-lorquestra-infantil.html
CLASS:PUBLIC
END:VEVENT
END:VCALENDAR
