BEGIN:VCALENDAR
VERSION:2.0
CALSCALE:GREGORIAN
PRODID:-//Diputació de Barcelona//DibaCMS//EN
BEGIN:VEVENT
UID:26540
DTSTAMP:20260421T170507
DTSTART:20240613T190000
DTEND:20240613T190000
SUMMARY:Concert de combos de l’Escola Municipal de Música Joan Valls
LOCATION:Carretera C59 (Mollet-Moià) Km. 13 08140 Caldes de Montbui
METHOD:PUBLISH
X-WR-CALNAME:caldesm@caldesdemontbui.cat
X-WR-TIMEZONE:Europe/Madrid
DESCRIPTION:
URI:https://www.caldesdemontbui.cat/actualitat/agenda/26540-concert-de-combos-de-lescola-municipal-de-musica-joan-valls.html
CLASS:PUBLIC
END:VEVENT
END:VCALENDAR
