BEGIN:VCALENDAR
VERSION:2.0
CALSCALE:GREGORIAN
PRODID:-//Diputació de Barcelona//DibaCMS//EN
BEGIN:VEVENT
UID:26533
DTSTAMP:20260422T055238
DTSTART:20240601T100000
DTEND:20240601T140000
SUMMARY:Caldesflor Corpus 2024. Tallada de flor
LOCATION:C. de Font i Boet, 4 08140 Caldes de Montbui
METHOD:PUBLISH
X-WR-CALNAME:caldesm@caldesdemontbui.cat
X-WR-TIMEZONE:Europe/Madrid
DESCRIPTION:
URI:https://www.caldesdemontbui.cat/actualitat/agenda/caldesflor-corpus-2024-tallada-de-flor.html
CLASS:PUBLIC
END:VEVENT
END:VCALENDAR
