BEGIN:VCALENDAR
VERSION:2.0
CALSCALE:GREGORIAN
PRODID:-//Diputació de Barcelona//DibaCMS//EN
BEGIN:VEVENT
UID:26532
DTSTAMP:20260423T122642
DTSTART:20240531T193000
DTEND:20240531T193000
SUMMARY:Caldesflor Corpus 2024. Inauguració de l’Exposició Euro-Art
LOCATION:
METHOD:PUBLISH
X-WR-CALNAME:caldesm@caldesdemontbui.cat
X-WR-TIMEZONE:Europe/Madrid
DESCRIPTION:
URI:https://www.caldesdemontbui.cat/actualitat/agenda/caldesflor-corpus-2024-acte-commemoratiu-dels-25-anys-daccio-civica-calderina-duplicat.html
CLASS:PUBLIC
END:VEVENT
END:VCALENDAR
