BEGIN:VCALENDAR
VERSION:2.0
CALSCALE:GREGORIAN
PRODID:-//Diputació de Barcelona//DibaCMS//EN
BEGIN:VEVENT
UID:26530
DTSTAMP:20260422T025419
DTSTART:20240530T190000
DTEND:20240530T190000
SUMMARY:Caldesflor Corpus 2024. Inici del XV concurs d’aparadorisme i decoració interior COMERÇFLOR
LOCATION:
METHOD:PUBLISH
X-WR-CALNAME:caldesm@caldesdemontbui.cat
X-WR-TIMEZONE:Europe/Madrid
DESCRIPTION:
URI:https://www.caldesdemontbui.cat/actualitat/agenda/caldesflor-corpus-2024-inici-del-xv-concurs-daparadorisme-i-decoracio-interior-comercflor.html
CLASS:PUBLIC
END:VEVENT
END:VCALENDAR
