BEGIN:VCALENDAR
VERSION:2.0
CALSCALE:GREGORIAN
PRODID:-//Diputació de Barcelona//DibaCMS//EN
BEGIN:VEVENT
UID:26509
DTSTAMP:20260421T215537
DTSTART:20240608T213000
DTEND:20240608T213000
SUMMARY:Ruta noctura i teatralitzada de "Camins de Bruixes"
LOCATION:
METHOD:PUBLISH
X-WR-CALNAME:caldesm@caldesdemontbui.cat
X-WR-TIMEZONE:Europe/Madrid
DESCRIPTION:Entrages esgotades

URI:https://www.caldesdemontbui.cat/actualitat/agenda/ruta-noctura-i-teatralitzada-de-camins-de-bruixes.html
CLASS:PUBLIC
END:VEVENT
END:VCALENDAR
