BEGIN:VCALENDAR
VERSION:2.0
CALSCALE:GREGORIAN
PRODID:-//Diputació de Barcelona//DibaCMS//EN
BEGIN:VEVENT
UID:26507
DTSTAMP:20260421T182504
DTSTART:20240616T113000
DTEND:20240616T113000
SUMMARY:Espectacle de titelles "Jane & Marc Exploradors"
LOCATION: Corredossos de Baix, 9-11 (antic 1) 8140 Caldes de Montbui
METHOD:PUBLISH
X-WR-CALNAME:caldesm@caldesdemontbui.cat
X-WR-TIMEZONE:Europe/Madrid
DESCRIPTION:
URI:https://www.caldesdemontbui.cat/actualitat/agenda/espectacle-de-titelles-jane-and-marc-exploradors.html
CLASS:PUBLIC
END:VEVENT
END:VCALENDAR
