BEGIN:VCALENDAR
VERSION:2.0
CALSCALE:GREGORIAN
PRODID:-//Diputació de Barcelona//DibaCMS//EN
BEGIN:VEVENT
UID:26506
DTSTAMP:20260421T203542
DTSTART:20240602T133000
DTEND:20240602T193000
SUMMARY:Concert a càrrec del grup Alma de Boqueron 
LOCATION:Corredossos de Baix, 9-11 08140 Caldes de Montbui
METHOD:PUBLISH
X-WR-CALNAME:caldesm@caldesdemontbui.cat
X-WR-TIMEZONE:Europe/Madrid
DESCRIPTION:
URI:https://www.caldesdemontbui.cat/actualitat/agenda/concert-a-carrec-del-grup-alma-de-boqueron-.html
CLASS:PUBLIC
END:VEVENT
END:VCALENDAR
