BEGIN:VCALENDAR
VERSION:2.0
CALSCALE:GREGORIAN
PRODID:-//Diputació de Barcelona//DibaCMS//EN
BEGIN:VEVENT
UID:26503
DTSTAMP:20260421T202210
DTSTART:20240610T100000
DTEND:20240610T100000
SUMMARY:Xerrada "Saps com sol·licitar el reconeixement del grau de discapacitat i aconseguir les ajudes que et pertoquen?"
LOCATION:C. de Font i Boet 7 8140 Caldes de Montbui
METHOD:PUBLISH
X-WR-CALNAME:caldesm@caldesdemontbui.cat
X-WR-TIMEZONE:Europe/Madrid
DESCRIPTION:
URI:https://www.caldesdemontbui.cat/actualitat/agenda/xerrada-saps-com-sollicitar-el-reconeixement-del-grau-de-discapacitat-i-aconseguir-les-ajudes-que-et-pertoquen.html
CLASS:PUBLIC
END:VEVENT
END:VCALENDAR
