BEGIN:VCALENDAR
VERSION:2.0
CALSCALE:GREGORIAN
PRODID:-//Diputació de Barcelona//DibaCMS//EN
BEGIN:VEVENT
UID:26500
DTSTAMP:20260421T153358
DTSTART:20240531T180000
DTEND:20240602T133000
SUMMARY:Exposició de les obres de l’alumnat jove del Taller d’Art del 24 al 26 de maig i del 31 de maig al 2 de juny, a la Sala Delger 
LOCATION:Carrer del Forn, 8bis 08140 Caldes de Montbui
METHOD:PUBLISH
X-WR-CALNAME:caldesm@caldesdemontbui.cat
X-WR-TIMEZONE:Europe/Madrid
DESCRIPTION:
URI:https://www.caldesdemontbui.cat/actualitat/agenda/exposicio-de-les-obres-de-lalumnat-jove-del-taller-dart-del-24-al-26-de-maig-i-del-31-de-maig-al-2-de-juny-a-la-sala-delger-.html
CLASS:PUBLIC
END:VEVENT
END:VCALENDAR
