BEGIN:VCALENDAR
VERSION:2.0
CALSCALE:GREGORIAN
PRODID:-//Diputació de Barcelona//DibaCMS//EN
BEGIN:VEVENT
UID:26498
DTSTAMP:20260421T185954
DTSTART:20240524T190000
DTEND:20240524T190000
SUMMARY:Inauguració de l'exposició de les obres de l’alumnat jove del Taller d’Art 
LOCATION:Carrer del Forn, 8bis 08140 Caldes de Montbui
METHOD:PUBLISH
X-WR-CALNAME:caldesm@caldesdemontbui.cat
X-WR-TIMEZONE:Europe/Madrid
DESCRIPTION:
URI:https://www.caldesdemontbui.cat/actualitat/agenda/inauguracio-de-lexposicio-de-les-obres-de-lalumnat-jove-del-taller-dart-.html
CLASS:PUBLIC
END:VEVENT
END:VCALENDAR
