BEGIN:VCALENDAR
VERSION:2.0
CALSCALE:GREGORIAN
PRODID:-//Diputació de Barcelona//DibaCMS//EN
BEGIN:VEVENT
UID:26493
DTSTAMP:20260422T041939
DTSTART:20240530T190000
DTEND:20240530T190000
SUMMARY:La Jam del Centre
LOCATION:Corredossos de Baix, 9-11 08140 Caldes de Montbui
METHOD:PUBLISH
X-WR-CALNAME:caldesm@caldesdemontbui.cat
X-WR-TIMEZONE:Europe/Madrid
DESCRIPTION:
URI:https://www.caldesdemontbui.cat/actualitat/agenda/26493-la-jam-del-centre.html
CLASS:PUBLIC
END:VEVENT
END:VCALENDAR
