BEGIN:VCALENDAR
VERSION:2.0
CALSCALE:GREGORIAN
PRODID:-//Diputació de Barcelona//DibaCMS//EN
BEGIN:VEVENT
UID:26492
DTSTAMP:20260422T030426
DTSTART:20240526T100000
DTEND:20240526T130000
SUMMARY:Caldes Juga 
LOCATION:
METHOD:PUBLISH
X-WR-CALNAME:caldesm@caldesdemontbui.cat
X-WR-TIMEZONE:Europe/Madrid
DESCRIPTION:
URI:https://www.caldesdemontbui.cat/actualitat/agenda/caldes-juga-.html
CLASS:PUBLIC
END:VEVENT
END:VCALENDAR
