BEGIN:VCALENDAR
VERSION:2.0
CALSCALE:GREGORIAN
PRODID:-//Diputació de Barcelona//DibaCMS//EN
BEGIN:VEVENT
UID:26482
DTSTAMP:20260421T203431
DTSTART:20240523T180000
DTEND:20240523T180000
SUMMARY:Dijous de conte “Explica’m una selva” 
LOCATION:Santa Teresa, 3-5 08140 Caldes de Montbui
METHOD:PUBLISH
X-WR-CALNAME:caldesm@caldesdemontbui.cat
X-WR-TIMEZONE:Europe/Madrid
DESCRIPTION:
URI:https://www.caldesdemontbui.cat/actualitat/agenda/dijous-de-conte-explicam-una-selva-.html
CLASS:PUBLIC
END:VEVENT
END:VCALENDAR
